Package: findIPs Version: 1.4.0 Command: rm -rf findIPs.buildbin-libdir && mkdir findIPs.buildbin-libdir && /Users/biocbuild/BBS/utils/build-universal.sh findIPs_1.4.0.tar.gz /Library/Frameworks/R.framework/Resources/bin/R findIPs.buildbin-libdir StartedAt: 2025-10-15 18:30:05 -0400 (Wed, 15 Oct 2025) EndedAt: 2025-10-15 18:30:31 -0400 (Wed, 15 Oct 2025) EllapsedTime: 26.9 seconds RetCode: 0 Status: OK PackageFile: findIPs_1.4.0.tgz PackageFileSize: 2.143 MiB