Package: fgga Version: 1.16.0 Command: chmod a+r fgga -R && E:\biocbuild\bbs-3.21-bioc\R\bin\R.exe CMD build --keep-empty-dirs --no-resave-data fgga StartedAt: 2025-08-14 19:05:30 -0400 (Thu, 14 Aug 2025) EndedAt: 2025-08-14 19:06:34 -0400 (Thu, 14 Aug 2025) EllapsedTime: 64.8 seconds RetCode: 0 Status: OK PackageFile: fgga_1.16.0.tar.gz PackageFileSize: 1.306 MiB