Package: fgga Version: 1.16.0 Command: /home/biocbuild/bbs-3.21-bioc/R/bin/R CMD check --install=check:fgga.install-out.txt --library=/home/biocbuild/bbs-3.21-bioc/R/site-library --timings fgga_1.16.0.tar.gz StartedAt: 2025-10-15 23:14:33 -0400 (Wed, 15 Oct 2025) EndedAt: 2025-10-15 23:17:12 -0400 (Wed, 15 Oct 2025) EllapsedTime: 158.2 seconds RetCode: 0 Status: OK CheckDir: fgga.Rcheck Warnings: 0