Package: fgga Version: 1.16.0 Command: /home/biocbuild/R/R/bin/R CMD build --keep-empty-dirs --no-resave-data fgga StartedAt: 2025-10-14 00:51:29 -0000 (Tue, 14 Oct 2025) EndedAt: 2025-10-14 00:52:42 -0000 (Tue, 14 Oct 2025) EllapsedTime: 73.0 seconds RetCode: 0 Status: OK PackageFile: fgga_1.16.0.tar.gz PackageFileSize: 1.382 MiB