Package: fgga Version: 1.16.0 Command: /Library/Frameworks/R.framework/Resources/bin/R CMD check --install=check:fgga.install-out.txt --library=/Library/Frameworks/R.framework/Resources/library --no-vignettes --timings fgga_1.16.0.tar.gz StartedAt: 2025-04-21 19:24:04 -0400 (Mon, 21 Apr 2025) EndedAt: 2025-04-21 19:24:48 -0400 (Mon, 21 Apr 2025) EllapsedTime: 43.5 seconds RetCode: 0 Status: OK CheckDir: fgga.Rcheck Warnings: 0