Package: ffpe Version: 1.52.0 Command: rm -rf ffpe.buildbin-libdir && mkdir ffpe.buildbin-libdir && /Users/biocbuild/BBS/utils/build-universal.sh ffpe_1.52.0.tar.gz /Library/Frameworks/R.framework/Resources/bin/R ffpe.buildbin-libdir StartedAt: 2025-10-14 13:26:30 -0400 (Tue, 14 Oct 2025) EndedAt: 2025-10-14 13:29:08 -0400 (Tue, 14 Oct 2025) EllapsedTime: 158.4 seconds RetCode: 0 Status: OK PackageFile: ffpe_1.52.0.tgz PackageFileSize: 299.3 KiB