Package: ffpe Version: 1.52.0 Command: rm -rf ffpe.buildbin-libdir && mkdir ffpe.buildbin-libdir && /Users/biocbuild/BBS/utils/build-universal.sh ffpe_1.52.0.tar.gz /Library/Frameworks/R.framework/Resources/bin/R ffpe.buildbin-libdir StartedAt: 2025-04-22 00:45:30 -0400 (Tue, 22 Apr 2025) EndedAt: 2025-04-22 00:46:37 -0400 (Tue, 22 Apr 2025) EllapsedTime: 66.5 seconds RetCode: 0 Status: OK PackageFile: ffpe_1.52.0.tgz PackageFileSize: 298.5 KiB