Package: ffpe Version: 1.52.0 Command: /home/biocbuild/R/R/bin/R CMD build --keep-empty-dirs --no-resave-data ffpe StartedAt: 2025-10-14 00:51:22 -0000 (Tue, 14 Oct 2025) EndedAt: 2025-10-14 00:53:03 -0000 (Tue, 14 Oct 2025) EllapsedTime: 101.0 seconds RetCode: 0 Status: OK PackageFile: ffpe_1.52.0.tar.gz PackageFileSize: 259.7 KiB