Package: fenr Version: 1.6.2 Command: /home/biocbuild/bbs-3.21-bioc/R/bin/R CMD build --keep-empty-dirs --no-resave-data fenr StartedAt: 2025-10-15 17:30:31 -0400 (Wed, 15 Oct 2025) EndedAt: 2025-10-15 17:30:55 -0400 (Wed, 15 Oct 2025) EllapsedTime: 24.0 seconds RetCode: 0 Status: OK PackageFile: fenr_1.6.2.tar.gz PackageFileSize: 1.997 MiB