Package: fenr Version: 1.6.2 Command: /Library/Frameworks/R.framework/Resources/bin/R CMD check --install=check:fenr.install-out.txt --library=/Library/Frameworks/R.framework/Resources/library --no-vignettes --timings fenr_1.6.2.tar.gz StartedAt: 2025-10-14 21:35:27 -0400 (Tue, 14 Oct 2025) EndedAt: 2025-10-14 21:39:11 -0400 (Tue, 14 Oct 2025) EllapsedTime: 224.7 seconds RetCode: 0 Status: OK CheckDir: fenr.Rcheck Warnings: 0