Package: fedup Version: 1.16.0 Command: /home/biocbuild/R/R/bin/R CMD INSTALL fedup StartedAt: 2025-09-25 20:25:01 -0000 (Thu, 25 Sep 2025) EndedAt: 2025-09-25 20:25:10 -0000 (Thu, 25 Sep 2025) EllapsedTime: 9.7 seconds RetCode: 0 Status: OK