Package: fedup Version: 1.16.0 Command: /home/biocbuild/R/R/bin/R CMD check --install=check:fedup.install-out.txt --library=/home/biocbuild/R/R/site-library --no-vignettes --timings fedup_1.16.0.tar.gz StartedAt: 2025-09-30 09:36:55 -0000 (Tue, 30 Sep 2025) EndedAt: 2025-09-30 09:42:06 -0000 (Tue, 30 Sep 2025) EllapsedTime: 311.2 seconds RetCode: 0 Status: OK CheckDir: fedup.Rcheck Warnings: 0