Package: fedup Version: 1.16.0 Command: /home/biocbuild/R/R/bin/R CMD build --keep-empty-dirs --no-resave-data fedup StartedAt: 2025-09-26 01:27:08 -0000 (Fri, 26 Sep 2025) EndedAt: 2025-09-26 01:33:38 -0000 (Fri, 26 Sep 2025) EllapsedTime: 390.1 seconds RetCode: 0 Status: OK PackageFile: fedup_1.16.0.tar.gz PackageFileSize: 4.534 MiB