Package: fastseg Version: 1.54.0 Command: chmod a+r fastseg -R && E:\biocbuild\bbs-3.21-bioc\R\bin\R.exe CMD build --keep-empty-dirs --no-resave-data fastseg StartedAt: 2025-08-14 19:03:12 -0400 (Thu, 14 Aug 2025) EndedAt: 2025-08-14 19:05:52 -0400 (Thu, 14 Aug 2025) EllapsedTime: 159.0 seconds RetCode: 0 Status: OK PackageFile: fastseg_1.54.0.tar.gz PackageFileSize: 475.7 KiB