Package: fastreeR Version: 1.12.5 Command: /home/biocbuild/R/R/bin/R CMD INSTALL fastreeR StartedAt: 2025-10-09 20:18:24 -0000 (Thu, 09 Oct 2025) EndedAt: 2025-10-09 20:19:17 -0000 (Thu, 09 Oct 2025) EllapsedTime: 52.7 seconds RetCode: 0 Status: OK