Package: fastreeR Version: 1.12.5 Command: /home/biocbuild/R/R/bin/R CMD check --install=check:fastreeR.install-out.txt --library=/home/biocbuild/R/R/site-library --no-vignettes --timings fastreeR_1.12.5.tar.gz StartedAt: 2025-10-10 08:54:34 -0000 (Fri, 10 Oct 2025) EndedAt: 2025-10-10 08:55:12 -0000 (Fri, 10 Oct 2025) EllapsedTime: 38.0 seconds RetCode: 0 Status: OK CheckDir: fastreeR.Rcheck Warnings: 0