Package: fastreeR Version: 1.12.5 Command: /home/biocbuild/R/R/bin/R CMD build --keep-empty-dirs --no-resave-data fastreeR StartedAt: 2025-10-10 00:49:49 -0000 (Fri, 10 Oct 2025) EndedAt: 2025-10-10 00:50:51 -0000 (Fri, 10 Oct 2025) EllapsedTime: 62.0 seconds RetCode: 0 Status: OK PackageFile: fastreeR_1.12.5.tar.gz PackageFileSize: 2.885 MiB