Package: fastLiquidAssociation Version: 1.44.0 Command: /Library/Frameworks/R.framework/Resources/bin/R CMD check --install=check:fastLiquidAssociation.install-out.txt --library=/Library/Frameworks/R.framework/Resources/library --no-vignettes --timings fastLiquidAssociation_1.44.0.tar.gz StartedAt: 2025-09-30 03:37:58 -0400 (Tue, 30 Sep 2025) EndedAt: 2025-09-30 03:44:13 -0400 (Tue, 30 Sep 2025) EllapsedTime: 375.1 seconds RetCode: 0 Status: WARNINGS CheckDir: fastLiquidAssociation.Rcheck Warnings: 1