Package: fastLiquidAssociation Version: 1.44.0 Command: /Library/Frameworks/R.framework/Resources/bin/R CMD INSTALL fastLiquidAssociation StartedAt: 2025-09-25 17:47:12 -0400 (Thu, 25 Sep 2025) EndedAt: 2025-09-25 17:47:37 -0400 (Thu, 25 Sep 2025) EllapsedTime: 25.5 seconds RetCode: 0 Status: OK