Package: famat Version: 1.18.0 Command: /home/biocbuild/bbs-3.21-bioc/R/bin/R CMD check --install=check:famat.install-out.txt --library=/home/biocbuild/bbs-3.21-bioc/R/site-library --timings famat_1.18.0.tar.gz StartedAt: 2025-10-01 23:12:46 -0400 (Wed, 01 Oct 2025) EndedAt: 2025-10-01 23:20:04 -0400 (Wed, 01 Oct 2025) EllapsedTime: 437.7 seconds RetCode: 0 Status: OK CheckDir: famat.Rcheck Warnings: 0