Package: famat Version: 1.18.0 Command: /home/biocbuild/bbs-3.21-bioc/R/bin/R CMD build --keep-empty-dirs --no-resave-data famat StartedAt: 2025-10-15 17:29:05 -0400 (Wed, 15 Oct 2025) EndedAt: 2025-10-15 17:30:18 -0400 (Wed, 15 Oct 2025) EllapsedTime: 73.1 seconds RetCode: 1 Status: ERROR PackageFile: None PackageFileSize: NA