Package: famat Version: 1.18.0 Command: /Library/Frameworks/R.framework/Resources/bin/R CMD build --keep-empty-dirs --no-resave-data famat StartedAt: 2025-10-14 00:15:38 -0400 (Tue, 14 Oct 2025) EndedAt: 2025-10-14 00:16:57 -0400 (Tue, 14 Oct 2025) EllapsedTime: 78.9 seconds RetCode: 1 Status: ERROR PackageFile: None PackageFileSize: NA