Package: faers Version: 1.4.0 Command: chmod a+r faers -R && E:\biocbuild\bbs-3.21-bioc\R\bin\R.exe CMD build --keep-empty-dirs --no-resave-data faers StartedAt: 2025-08-14 19:01:31 -0400 (Thu, 14 Aug 2025) EndedAt: 2025-08-14 19:02:28 -0400 (Thu, 14 Aug 2025) EllapsedTime: 57.0 seconds RetCode: 0 Status: OK PackageFile: faers_1.4.0.tar.gz PackageFileSize: 2.889 MiB