Package: faers Version: 1.4.0 Command: /home/biocbuild/R/R/bin/R CMD check --install=check:faers.install-out.txt --library=/home/biocbuild/R/R/site-library --no-vignettes --timings faers_1.4.0.tar.gz StartedAt: 2025-10-03 09:13:08 -0000 (Fri, 03 Oct 2025) EndedAt: 2025-10-03 09:14:14 -0000 (Fri, 03 Oct 2025) EllapsedTime: 65.1 seconds RetCode: 0 Status: OK CheckDir: faers.Rcheck Warnings: 0