Package: faers Version: 1.4.0 Command: /Library/Frameworks/R.framework/Resources/bin/R CMD build --keep-empty-dirs --no-resave-data faers StartedAt: 2025-04-21 16:19:54 -0400 (Mon, 21 Apr 2025) EndedAt: 2025-04-21 16:20:10 -0400 (Mon, 21 Apr 2025) EllapsedTime: 16.2 seconds RetCode: 0 Status: OK PackageFile: faers_1.4.0.tar.gz PackageFileSize: 2.889 MiB