Package: faers Version: 1.4.0 Command: rm -rf faers.buildbin-libdir && mkdir faers.buildbin-libdir && /Users/biocbuild/BBS/utils/build-universal.sh faers_1.4.0.tar.gz /Library/Frameworks/R.framework/Resources/bin/R faers.buildbin-libdir StartedAt: 2025-04-21 22:35:00 -0400 (Mon, 21 Apr 2025) EndedAt: 2025-04-21 22:35:03 -0400 (Mon, 21 Apr 2025) EllapsedTime: 3.1 seconds RetCode: 0 Status: OK PackageFile: faers_1.4.0.tgz PackageFileSize: 3.218 MiB