Package: faers Version: 1.4.0 Command: /Library/Frameworks/R.framework/Resources/bin/R CMD INSTALL faers StartedAt: 2025-10-02 15:23:02 -0400 (Thu, 02 Oct 2025) EndedAt: 2025-10-02 15:23:24 -0400 (Thu, 02 Oct 2025) EllapsedTime: 21.7 seconds RetCode: 0 Status: OK