Package: faers Version: 1.4.0 Command: /Library/Frameworks/R.framework/Resources/bin/R CMD build --keep-empty-dirs --no-resave-data faers StartedAt: 2025-10-03 00:14:09 -0400 (Fri, 03 Oct 2025) EndedAt: 2025-10-03 00:14:59 -0400 (Fri, 03 Oct 2025) EllapsedTime: 49.3 seconds RetCode: 0 Status: OK PackageFile: faers_1.4.0.tar.gz PackageFileSize: 2.889 MiB