Package: faers Version: 1.4.0 Command: rm -rf faers.buildbin-libdir && mkdir faers.buildbin-libdir && /Users/biocbuild/BBS/utils/build-universal.sh faers_1.4.0.tar.gz /Library/Frameworks/R.framework/Resources/bin/R faers.buildbin-libdir StartedAt: 2025-10-04 17:58:30 -0400 (Sat, 04 Oct 2025) EndedAt: 2025-10-04 17:58:38 -0400 (Sat, 04 Oct 2025) EllapsedTime: 7.9 seconds RetCode: 0 Status: OK PackageFile: faers_1.4.0.tgz PackageFileSize: 3.216 MiB