Package: factR Version: 1.10.0 Command: E:\biocbuild\bbs-3.21-bioc\R\bin\R.exe CMD check --no-multiarch --install=check:factR.install-out.txt --library=E:\biocbuild\bbs-3.21-bioc\R\library --no-vignettes --timings factR_1.10.0.tar.gz StartedAt: 2025-08-15 02:07:43 -0400 (Fri, 15 Aug 2025) EndedAt: 2025-08-15 02:10:30 -0400 (Fri, 15 Aug 2025) EllapsedTime: 167.2 seconds RetCode: 0 Status: OK CheckDir: factR.Rcheck Warnings: 0