Package: factR Version: 1.10.0 Command: /home/biocbuild/R/R/bin/R CMD INSTALL factR StartedAt: 2025-10-13 20:54:13 -0000 (Mon, 13 Oct 2025) EndedAt: 2025-10-13 20:54:27 -0000 (Mon, 13 Oct 2025) EllapsedTime: 13.3 seconds RetCode: 0 Status: OK