Package: fabia Version: 2.54.0 Command: chmod a+r fabia -R && E:\biocbuild\bbs-3.21-bioc\R\bin\R.exe CMD build --keep-empty-dirs --no-resave-data fabia StartedAt: 2025-08-14 19:01:00 -0400 (Thu, 14 Aug 2025) EndedAt: 2025-08-14 19:01:36 -0400 (Thu, 14 Aug 2025) EllapsedTime: 35.8 seconds RetCode: 0 Status: OK PackageFile: fabia_2.54.0.tar.gz PackageFileSize: 783.8 KiB