Package: fabia Version: 2.54.0 Command: rm -rf fabia.buildbin-libdir && mkdir fabia.buildbin-libdir && E:\biocbuild\bbs-3.21-bioc\R\bin\R.exe CMD INSTALL --build --library=fabia.buildbin-libdir fabia_2.54.0.tar.gz StartedAt: 2025-08-15 09:16:41 -0400 (Fri, 15 Aug 2025) EndedAt: 2025-08-15 09:17:33 -0400 (Fri, 15 Aug 2025) EllapsedTime: 51.8 seconds RetCode: 0 Status: OK PackageFile: fabia_2.54.0.zip PackageFileSize: 1.106 MiB