Package: fabia Version: 2.54.0 Command: /Library/Frameworks/R.framework/Resources/bin/R CMD INSTALL fabia StartedAt: 2025-10-13 15:21:48 -0400 (Mon, 13 Oct 2025) EndedAt: 2025-10-13 15:22:10 -0400 (Mon, 13 Oct 2025) EllapsedTime: 21.9 seconds RetCode: 0 Status: OK