Package: fabia Version: 2.54.0 Command: /Library/Frameworks/R.framework/Resources/bin/R CMD build --keep-empty-dirs --no-resave-data fabia StartedAt: 2025-10-13 19:00:57 -0400 (Mon, 13 Oct 2025) EndedAt: 2025-10-13 19:01:43 -0400 (Mon, 13 Oct 2025) EllapsedTime: 45.9 seconds RetCode: 0 Status: OK PackageFile: fabia_2.54.0.tar.gz PackageFileSize: 793.1 KiB