Package: fabia Version: 2.54.0 Command: rm -rf fabia.buildbin-libdir && mkdir fabia.buildbin-libdir && /Users/biocbuild/BBS/utils/build-universal.sh fabia_2.54.0.tar.gz /Library/Frameworks/R.framework/Resources/bin/R fabia.buildbin-libdir StartedAt: 2025-10-14 13:25:31 -0400 (Tue, 14 Oct 2025) EndedAt: 2025-10-14 13:26:06 -0400 (Tue, 14 Oct 2025) EllapsedTime: 34.6 seconds RetCode: 0 Status: OK PackageFile: fabia_2.54.0.tgz PackageFileSize: 1.141 MiB