Package: fCI Version: 1.38.0 Command: /Library/Frameworks/R.framework/Resources/bin/R CMD INSTALL fCI StartedAt: 2025-09-29 15:10:39 -0400 (Mon, 29 Sep 2025) EndedAt: 2025-09-29 15:11:33 -0400 (Mon, 29 Sep 2025) EllapsedTime: 53.7 seconds RetCode: 0 Status: OK