Package: fCCAC Version: 1.34.0 Command: /Library/Frameworks/R.framework/Resources/bin/R CMD INSTALL fCCAC StartedAt: 2025-10-13 15:54:43 -0400 (Mon, 13 Oct 2025) EndedAt: 2025-10-13 15:56:03 -0400 (Mon, 13 Oct 2025) EllapsedTime: 79.8 seconds RetCode: 0 Status: OK