Package: fCCAC Version: 1.34.0 Command: /Library/Frameworks/R.framework/Resources/bin/R CMD INSTALL fCCAC StartedAt: 2025-10-13 16:45:53 -0400 (Mon, 13 Oct 2025) EndedAt: 2025-10-13 16:46:39 -0400 (Mon, 13 Oct 2025) EllapsedTime: 46.7 seconds RetCode: 0 Status: OK