Package: extraChIPs Version: 1.12.2 Command: /home/biocbuild/bbs-3.21-bioc/R/bin/R CMD check --install=check:extraChIPs.install-out.txt --library=/home/biocbuild/bbs-3.21-bioc/R/site-library --timings extraChIPs_1.12.2.tar.gz StartedAt: 2025-10-15 23:11:36 -0400 (Wed, 15 Oct 2025) EndedAt: 2025-10-15 23:19:48 -0400 (Wed, 15 Oct 2025) EllapsedTime: 491.9 seconds RetCode: 0 Status: OK CheckDir: extraChIPs.Rcheck Warnings: 0