Package: extraChIPs Version: 1.12.2 Command: /Library/Frameworks/R.framework/Resources/bin/R CMD INSTALL extraChIPs StartedAt: 2025-10-13 15:53:22 -0400 (Mon, 13 Oct 2025) EndedAt: 2025-10-13 15:54:47 -0400 (Mon, 13 Oct 2025) EllapsedTime: 85.4 seconds RetCode: 0 Status: OK