Package: extraChIPs Version: 1.12.2 Command: rm -rf extraChIPs.buildbin-libdir && mkdir extraChIPs.buildbin-libdir && /Users/biocbuild/BBS/utils/build-universal.sh extraChIPs_1.12.2.tar.gz /Library/Frameworks/R.framework/Resources/bin/R extraChIPs.buildbin-libdir StartedAt: 2025-10-14 13:25:24 -0400 (Tue, 14 Oct 2025) EndedAt: 2025-10-14 13:27:42 -0400 (Tue, 14 Oct 2025) EllapsedTime: 138.5 seconds RetCode: 0 Status: OK PackageFile: extraChIPs_1.12.2.tgz PackageFileSize: 2.833 MiB