Package: extraChIPs Version: 1.12.0 Command: rm -rf extraChIPs.buildbin-libdir && mkdir extraChIPs.buildbin-libdir && /Users/biocbuild/BBS/utils/build-universal.sh extraChIPs_1.12.0.tar.gz /Library/Frameworks/R.framework/Resources/bin/R extraChIPs.buildbin-libdir StartedAt: 2025-04-22 00:45:08 -0400 (Tue, 22 Apr 2025) EndedAt: 2025-04-22 00:46:07 -0400 (Tue, 22 Apr 2025) EllapsedTime: 59.4 seconds RetCode: 0 Status: OK PackageFile: extraChIPs_1.12.0.tgz PackageFileSize: 2.747 MiB