Package: extraChIPs Version: 1.12.2 Command: /home/biocbuild/R/R/bin/R CMD INSTALL extraChIPs StartedAt: 2025-10-13 20:42:06 -0000 (Mon, 13 Oct 2025) EndedAt: 2025-10-13 20:43:05 -0000 (Mon, 13 Oct 2025) EllapsedTime: 58.9 seconds RetCode: 0 Status: OK