Package: extraChIPs Version: 1.12.2 Command: /home/biocbuild/R/R/bin/R CMD build --keep-empty-dirs --no-resave-data extraChIPs StartedAt: 2025-10-14 00:48:59 -0000 (Tue, 14 Oct 2025) EndedAt: 2025-10-14 00:50:42 -0000 (Tue, 14 Oct 2025) EllapsedTime: 103.1 seconds RetCode: 1 Status: ERROR PackageFile: None PackageFileSize: NA