Package: extraChIPs Version: 1.12.2 Command: /Library/Frameworks/R.framework/Resources/bin/R CMD INSTALL extraChIPs StartedAt: 2025-10-13 16:45:13 -0400 (Mon, 13 Oct 2025) EndedAt: 2025-10-13 16:46:02 -0400 (Mon, 13 Oct 2025) EllapsedTime: 48.9 seconds RetCode: 0 Status: OK