Package: extraChIPs Version: 1.12.2 Command: /Library/Frameworks/R.framework/Resources/bin/R CMD check --install=check:extraChIPs.install-out.txt --library=/Library/Frameworks/R.framework/Resources/library --no-vignettes --timings extraChIPs_1.12.2.tar.gz StartedAt: 2025-10-14 21:24:26 -0400 (Tue, 14 Oct 2025) EndedAt: 2025-10-14 21:32:17 -0400 (Tue, 14 Oct 2025) EllapsedTime: 470.4 seconds RetCode: 0 Status: OK CheckDir: extraChIPs.Rcheck Warnings: 0