Package: eudysbiome Version: 1.38.0 Command: /home/biocbuild/bbs-3.21-bioc/R/bin/R CMD INSTALL eudysbiome StartedAt: 2025-10-15 15:15:33 -0400 (Wed, 15 Oct 2025) EndedAt: 2025-10-15 15:15:45 -0400 (Wed, 15 Oct 2025) EllapsedTime: 11.6 seconds RetCode: 0 Status: OK