Package: eudysbiome Version: 1.38.0 Command: /home/biocbuild/R/R/bin/R CMD INSTALL eudysbiome StartedAt: 2025-10-13 20:29:00 -0000 (Mon, 13 Oct 2025) EndedAt: 2025-10-13 20:29:15 -0000 (Mon, 13 Oct 2025) EllapsedTime: 15.5 seconds RetCode: 0 Status: OK