Package: eudysbiome Version: 1.38.0 Command: /Library/Frameworks/R.framework/Resources/bin/R CMD INSTALL eudysbiome StartedAt: 2025-04-21 15:10:45 -0400 (Mon, 21 Apr 2025) EndedAt: 2025-04-21 15:10:50 -0400 (Mon, 21 Apr 2025) EllapsedTime: 5.1 seconds RetCode: 0 Status: OK